{
 "currentVersion": 11.5,
 "serviceDescription": "GeoCuritiba/Mapa_Geoidal",
 "serviceItemId": "56724180bf5e437c9261d1fc9104d2a1",
 "name": "GeoCuritiba/Mapa_Geoidal",
 "description": "",
 "extent": {
  "xmin": 656632.0119269604,
  "ymin": 7152596.096055016,
  "xmax": 690557.0119269604,
  "ymax": 7196906.096055016,
  "spatialReference": {
   "wkid": 31982,
   "latestWkid": 31982
  }
 },
 "initialExtent": {
  "xmin": 656632.0119269604,
  "ymin": 7152596.096055016,
  "xmax": 690557.0119269604,
  "ymax": 7196906.096055016,
  "spatialReference": {
   "wkid": 31982,
   "latestWkid": 31982
  }
 },
 "fullExtent": {
  "xmin": 656632.0119269604,
  "ymin": 7152596.096055016,
  "xmax": 690557.0119269604,
  "ymax": 7196906.096055016,
  "spatialReference": {
   "wkid": 31982,
   "latestWkid": 31982
  }
 },
 "sortableFields": "",
 "bandCount": 1,
 "pixelType": "F32",
 "minValues": [
  3.570056915283203
 ],
 "maxValues": [
  4.369981288909912
 ],
 "meanValues": [
  3.994619112765147
 ],
 "stdvValues": [
  0.19479786067410085
 ],
 "serviceProperties": "Center<\/MosaicMethod>First<\/MosaicOperator>true<\/SortAscending><\/LockImageID><\/TileOrderField>0<\/TileOrderBase>0,000000<\/AvgImageSpacingX>0,000000<\/AvgImageSpacingY>0.0<\/ViewPointX>0.0<\/ViewPointY>0.0<\/ViewPointDefShiftX>0.0<\/ViewPointDefShiftY>None<\/CompressionMethod>75<\/CompressionQuality>0,010000<\/CompressionTolerance>Bilinear<\/SamplingMethod><\/ImageServiceProperties><\/ImageServer>",
 "allowedFields": "",
 "hasMultidimensions": false,
 "pixelSizeX": 2.5,
 "pixelSizeY": 2.5,
 "meanPixelSize": 2.5,
 "datasetFormat": "FGDBR",
 "uncompressedSize": 962058720,
 "blockWidth": 128,
 "blockHeight": 128,
 "compressionType": "LZ77",
 "bandNames": [
  "Band_1"
 ],
 "allowCopy": true,
 "allowAnalysis": true,
 "itemAccess": false,
 "inspectionCapabilities": "",
 "minPixelSize": 0,
 "maxPixelSize": 0,
 "copyrightText": "",
 "serviceDataType": "esriImageServiceDataTypeGeneric",
 "serviceSourceType": "esriImageServiceSourceTypeDataset",
 "objectIdField": "",
 "fields": [],
 "capabilities": "Image,Metadata,Mensuration",
 "defaultMosaicMethod": "Center",
 "allowedMosaicMethods": "",
 "sortField": "",
 "sortValue": null,
 "sortAscending": true,
 "mosaicOperator": "First",
 "defaultCompressionQuality": 75,
 "defaultResamplingMethod": "Bilinear",
 "maxImageHeight": 4100,
 "maxImageWidth": 15000,
 "maxRecordCount": 2000,
 "allowRasterFunction": true,
 "rasterFunctionInfos": [
  {
   "name": "None",
   "description": "",
   "help": ""
  }
 ],
 "rasterTypeInfos": [
  {
   "name": "Raster Dataset",
   "description": "Supports all ArcGIS Raster Datasets",
   "help": ""
  }
 ],
 "mensurationCapabilities": "Basic",
 "hasHistograms": true,
 "hasColormap": false,
 "hasRasterAttributeTable": false,
 "minScale": 0,
 "maxScale": 0,
 "exportTilesAllowed": false,
 "supportsStatistics": false,
 "supportsAdvancedQueries": false,
 "editFieldsInfo": null,
 "ownershipBasedAccessControlForRasters": null,
 "allowComputeTiePoints": false,
 "useStandardizedQueries": true,
 "advancedQueryCapabilities": {
  "useStandardizedQueries": true,
  "supportsStatistics": false,
  "supportsOrderBy": false,
  "supportsDistinct": false,
  "supportsPagination": false
 },
 "spatialReference": {
  "wkid": 31982,
  "latestWkid": 31982
 }
}
