View In:
ArcGIS JavaScript
ArcGIS Online Map Viewer
ArcGIS Earth
ArcMap
View Footprint In:
ArcGIS Online Map Viewer
Service Description: GeoCuritiba/Ortofotos2019_RGBN
Name: GeoCuritiba/Ortofotos2019_RGBN
Description:
Single Fused Map Cache: false
Extent:
XMin: 661046.7199999999
YMin: 7161829.4399999995
XMax: 683544.0799999998
YMax: 7196577.4399999995
Spatial Reference: 31982
(31982)
Initial Extent:
XMin: 661046.7199999999
YMin: 7161829.4399999995
XMax: 683544.0799999998
YMax: 7196577.4399999995
Spatial Reference: 31982
(31982)
Full Extent:
XMin: 661046.7199999999
YMin: 7161829.4399999995
XMax: 683544.0799999998
YMax: 7196577.4399999995
Spatial Reference: 31982
(31982)
Pixel Size X: 0.07999999999999995
Pixel Size Y: 0.08
Band Count: 4
Pixel Type: U8
RasterFunction Infos: {"rasterFunctionInfos": [{
"name": "None",
"description": "",
"help": ""
}]}
Mensuration Capabilities: Basic
Has Histograms: true
Has Colormap: false
Has Multi Dimensions : false
Rendering Rule:
Min Scale: 0
Max Scale: 0
Copyright Text: PMC 2019
Service Data Type: esriImageServiceDataTypeGeneric
Min Values: 0, 0, 0, 0
Max Values: 255, 255, 255, 255
Mean Values: 69.66913141135949, 71.73049371734332, 61.304062144235274, 76.48196855405152
Standard Deviation Values: 47.728684237805474, 43.66653276404715, 38.241712513402085, 41.27410281942975
Object ID Field:
Fields:
None
Default Mosaic Method: Center
Allowed Mosaic Methods:
SortField:
SortValue: null
Mosaic Operator: First
Default Compression Quality: 75
Default Resampling Method: Bilinear
Max Record Count: null
Max Image Height: 4100
Max Image Width: 15000
Max Download Image Count: null
Max Mosaic Image Count: null
Allow Raster Function: true
Allow Copy: true
Allow Analysis: true
Allow Compute TiePoints: false
Supports Statistics: false
Supports Advanced Queries: false
Use StandardizedQueries: true
Raster Type Infos:
Name: Raster Dataset
Description: Supports all ArcGIS Raster Datasets
Help:
Has Raster Attribute Table: false
Edit Fields Info: null
Ownership Based AccessControl For Rasters: null
Child Resources:
Info
Histograms
Statistics
Key Properties
Legend
Raster Function Infos
Supported Operations:
Export Image
Identify
Measure
Compute Histograms
Compute Statistics Histograms
Get Samples
Compute Class Statistics
Query Boundary
Compute Pixel Location
Validate
Project