View In:
ArcGIS JavaScript
ArcGIS Online Map Viewer
ArcGIS Earth
Service Description: GeoCuritiba/Mapa_Geoidal
Name: GeoCuritiba/Mapa_Geoidal
Description:
Single Fused Map Cache: false
Extent:
XMin: 656632.0119269604
YMin: 7152596.096055016
XMax: 690557.0119269604
YMax: 7196906.096055016
Spatial Reference: 31982
(31982)
LatestVCSWkid(0)
Initial Extent:
XMin: 656632.0119269604
YMin: 7152596.096055016
XMax: 690557.0119269604
YMax: 7196906.096055016
Spatial Reference: 31982
(31982)
LatestVCSWkid(0)
Full Extent:
XMin: 656632.0119269604
YMin: 7152596.096055016
XMax: 690557.0119269604
YMax: 7196906.096055016
Spatial Reference: 31982
(31982)
LatestVCSWkid(0)
Pixel Size X: 2.5
Pixel Size Y: 2.5
Band Count: 1
Pixel Type: F32
RasterFunction Infos: {"rasterFunctionInfos": [{
"name": "None",
"description": "",
"help": ""
}]}
Mensuration Capabilities: Basic
Inspection Capabilities:
Has Histograms: true
Has Colormap: false
Has Multi Dimensions : false
Rendering Rule:
Min Scale: 0
Max Scale: 0
Copyright Text:
Service Data Type: esriImageServiceDataTypeGeneric
Min Values: 3.570056915283203
Max Values: 4.369981288909912
Mean Values: 3.994619112765147
Standard Deviation Values: 0.19479786067410085
Object ID Field:
Fields:
None
Default Mosaic Method: Center
Allowed Mosaic Methods:
SortField:
SortValue: null
Mosaic Operator: First
Default Compression Quality: 75
Default Resampling Method: Bilinear
Max Record Count: 2000
Max Image Height: 4100
Max Image Width: 15000
Max Download Image Count: null
Max Mosaic Image Count: null
Allow Raster Function: true
Allow Copy: true
Allow Analysis: true
Allow Compute TiePoints: false
Supports Statistics: false
Supports Advanced Queries: false
Use StandardizedQueries: true
Raster Type Infos:
Name: Raster Dataset
Description: Supports all ArcGIS Raster Datasets
Help:
Has Raster Attribute Table: false
Edit Fields Info: null
Ownership Based AccessControl For Rasters: null
Child Resources:
Info
Histograms
Statistics
Key Properties
Legend
Raster Function Infos
Supported Operations:
Export Image
Identify
Measure
Compute Histograms
Compute Statistics Histograms
Get Samples
Compute Class Statistics
Query Boundary
Compute Pixel Location
Compute Angles
Validate
Project